BEGIN:VCALENDAR
VERSION:2.0
PRODID:-//The Mel Evans MBE Foundation - ECPv6.15.20//NONSGML v1.0//EN
CALSCALE:GREGORIAN
METHOD:PUBLISH
X-WR-CALNAME:The Mel Evans MBE Foundation
X-ORIGINAL-URL:https://melevansfoundation.org.uk
X-WR-CALDESC:Events for The Mel Evans MBE Foundation
REFRESH-INTERVAL;VALUE=DURATION:PT1H
X-Robots-Tag:noindex
X-PUBLISHED-TTL:PT1H
BEGIN:VTIMEZONE
TZID:UTC
BEGIN:STANDARD
TZOFFSETFROM:+0000
TZOFFSETTO:+0000
TZNAME:UTC
DTSTART:20230101T000000
END:STANDARD
END:VTIMEZONE
BEGIN:VEVENT
DTSTART;TZID=UTC:20240525T200000
DTEND;TZID=UTC:20240525T200000
DTSTAMP:20260425T033920
CREATED:20240223T154210Z
LAST-MODIFIED:20240531T201154Z
UID:22264-1716667200-1716667200@melevansfoundation.org.uk
SUMMARY:1970s Party Band night
DESCRIPTION:VIP Guest of Honour is Jordan Pilkington. Tickets £7.50. All proceeds to MND research. \nWe raised £1156.50. This will fund a PhD students’ time currently working on one of the research projects. \n 
URL:https://melevansfoundation.org.uk/event/1970s-party-band-night/
LOCATION:Heath Hayes Constitutional Club\, Cannock\, Staffordshire\, WS12 3HN\, United Kingdom
CATEGORIES:Events,Past Events
ATTACH;FMTTYPE=image/jpeg:https://melevansfoundation.org.uk/wp-content/uploads/2024/02/1970sPartyBandNight.jpg
ORGANIZER;CN="The Mel Evans MBE Foundation":MAILTO:lynn@melevansfoundation.org.uk
END:VEVENT
END:VCALENDAR