BEGIN:VCALENDAR
VERSION:2.0
PRODID:-//The Mel Evans MBE Foundation - ECPv6.15.20//NONSGML v1.0//EN
CALSCALE:GREGORIAN
METHOD:PUBLISH
X-ORIGINAL-URL:https://melevansfoundation.org.uk
X-WR-CALDESC:Events for The Mel Evans MBE Foundation
REFRESH-INTERVAL;VALUE=DURATION:PT1H
X-Robots-Tag:noindex
X-PUBLISHED-TTL:PT1H
BEGIN:VTIMEZONE
TZID:UTC
BEGIN:STANDARD
TZOFFSETFROM:+0000
TZOFFSETTO:+0000
TZNAME:UTC
DTSTART:20230101T000000
END:STANDARD
END:VTIMEZONE
BEGIN:VEVENT
DTSTART;TZID=UTC:20241123T180000
DTEND;TZID=UTC:20241123T180000
DTSTAMP:20260425T165428
CREATED:20240619T092634Z
LAST-MODIFIED:20240715T121350Z
UID:22743-1732384800-1732384800@melevansfoundation.org.uk
SUMMARY:Football Against MND
DESCRIPTION:📢 THE MEL EVANS MBE FOUNDATION PROUDLY PRESENTS: \n📢 FOOTBALL AGAINST MOTOR NEURONE DISEASE\nSupported by The Darby Rimmer Foundation \nA Gala Dinner at the home of Manchester United FC. The football community getting behind our fight against MND. A night to honour footballing legends and MND warriors Stephen Darby and Marcus Stewart. A night to honour the amazing 26 year old Jordan Pilkington\, featured on BBC Breakfast\, diagnosed with MND at a mere 21 years of age. Proceeds to MND research. 🍽 🥂 🍻 \n⚽ Saturday 23rd November 2024\n⚽ The Manchester Suite Old Trafford\n⚽ 6.00pm until late \nThis event offers an amazing sponsorship opportunity!! For more information please contact Lynn Pritchatt via lynn@melevansfoundation.org.uk \nFor more information on ticket purchase\, VIP Guests and event sponsorship opportunities visit https://www.redwoodevents.co.uk/football-against-mnd/
URL:https://melevansfoundation.org.uk/event/football-against-mnd/
LOCATION:Old Trafford\, Sir Matt Busby Way\, Old Trafford\, Stretford\,\, Manchester\, M16 0RA\, United Kingdom
CATEGORIES:Events
ATTACH;FMTTYPE=image/jpeg:https://melevansfoundation.org.uk/wp-content/uploads/2024/06/Football-Against-MND-Promo1.jpg
ORGANIZER;CN="The Mel Evans MBE Foundation":MAILTO:lynn@melevansfoundation.org.uk
END:VEVENT
END:VCALENDAR