BEGIN:VCALENDAR
VERSION:2.0
PRODID:-//The Mel Evans MBE Foundation - ECPv6.15.20//NONSGML v1.0//EN
CALSCALE:GREGORIAN
METHOD:PUBLISH
X-WR-CALNAME:The Mel Evans MBE Foundation
X-ORIGINAL-URL:https://melevansfoundation.org.uk
X-WR-CALDESC:Events for The Mel Evans MBE Foundation
REFRESH-INTERVAL;VALUE=DURATION:PT1H
X-Robots-Tag:noindex
X-PUBLISHED-TTL:PT1H
BEGIN:VTIMEZONE
TZID:UTC
BEGIN:STANDARD
TZOFFSETFROM:+0000
TZOFFSETTO:+0000
TZNAME:UTC
DTSTART:20230101T000000
END:STANDARD
END:VTIMEZONE
BEGIN:VEVENT
DTSTART;TZID=UTC:20240810T103000
DTEND;TZID=UTC:20240810T103000
DTSTAMP:20260425T001025
CREATED:20240223T160945Z
LAST-MODIFIED:20240802T080636Z
UID:22301-1723285800-1723285800@melevansfoundation.org.uk
SUMMARY:The Evans Trophy North v South Team Challenge
DESCRIPTION:Download the Programme here
URL:https://melevansfoundation.org.uk/event/the-evans-trophy-north-v-south-team-challenge/
LOCATION:Garswood Hall Bowling Club\, Wigan\, Lancashire\, WN4 8LU\, United Kingdom
CATEGORIES:Events
ATTACH;FMTTYPE=image/png:https://melevansfoundation.org.uk/wp-content/uploads/2024/02/EvansTrophyNorthvSouth-.png
ORGANIZER;CN="The Mel Evans MBE Foundation":MAILTO:lynn@melevansfoundation.org.uk
END:VEVENT
BEGIN:VEVENT
DTSTART;TZID=UTC:20240826T103000
DTEND;TZID=UTC:20240826T103000
DTSTAMP:20260425T001025
CREATED:20240223T161257Z
LAST-MODIFIED:20240624T084709Z
UID:22303-1724668200-1724668200@melevansfoundation.org.uk
SUMMARY:Crown Green Bowls/Rugby League Pro/AM Charity Challenge
DESCRIPTION:A day to honour the late Rob Burrow CBE. All proceeds to The Rob Burrow MND Centre Appeal.
URL:https://melevansfoundation.org.uk/event/crown-green-bowls-rugby-league-pro-am-charity-challenge/
LOCATION:Brighouse Sports Club\, Russell Way\, Brighouse\, Yorkshire\, HD6 4LX\, United Kingdom
CATEGORIES:Events
ATTACH;FMTTYPE=image/webp:https://melevansfoundation.org.uk/wp-content/uploads/2024/02/Brighouse-Day-Promo.webp
ORGANIZER;CN="The Mel Evans MBE Foundation":MAILTO:lynn@melevansfoundation.org.uk
END:VEVENT
END:VCALENDAR